BEGIN:VCALENDAR
VERSION:2.0
PRODID:-//EUC Nordvest - ECPv6.15.17//NONSGML v1.0//EN
CALSCALE:GREGORIAN
METHOD:PUBLISH
X-ORIGINAL-URL:https://eucnordvest.dk
X-WR-CALDESC:Begivenheder for EUC Nordvest
REFRESH-INTERVAL;VALUE=DURATION:PT1H
X-Robots-Tag:noindex
X-PUBLISHED-TTL:PT1H
BEGIN:VTIMEZONE
TZID:Europe/Copenhagen
BEGIN:DAYLIGHT
TZOFFSETFROM:+0100
TZOFFSETTO:+0200
TZNAME:CEST
DTSTART:20250330T010000
END:DAYLIGHT
BEGIN:STANDARD
TZOFFSETFROM:+0200
TZOFFSETTO:+0100
TZNAME:CET
DTSTART:20251026T010000
END:STANDARD
BEGIN:DAYLIGHT
TZOFFSETFROM:+0100
TZOFFSETTO:+0200
TZNAME:CEST
DTSTART:20260329T010000
END:DAYLIGHT
BEGIN:STANDARD
TZOFFSETFROM:+0200
TZOFFSETTO:+0100
TZNAME:CET
DTSTART:20261025T010000
END:STANDARD
BEGIN:DAYLIGHT
TZOFFSETFROM:+0100
TZOFFSETTO:+0200
TZNAME:CEST
DTSTART:20270328T010000
END:DAYLIGHT
BEGIN:STANDARD
TZOFFSETFROM:+0200
TZOFFSETTO:+0100
TZNAME:CET
DTSTART:20271031T010000
END:STANDARD
END:VTIMEZONE
BEGIN:VEVENT
DTSTART;VALUE=DATE:20260424
DTEND;VALUE=DATE:20260425
DTSTAMP:20260424T160807
CREATED:20251022T091745Z
LAST-MODIFIED:20260227T122456Z
UID:10000025-1776988800-1777075199@eucnordvest.dk
SUMMARY:Galla i Thisted
DESCRIPTION:
URL:https://eucnordvest.dk/event/galla-i-thisted/
LOCATION:Thy Hallen\, Lerpyttervej 50\, 7700 Thisted
ATTACH;FMTTYPE=image/png:https://eucnordvest.dk/wp-content/uploads/2026/01/Galla-Thisted.png
END:VEVENT
END:VCALENDAR